BEGIN:VCALENDAR
VERSION:2.0
PRODID:-//eventon.com NONSGML v1.0//EN
CALSCALE:GREGORIAN
METHOD:PUBLISH
BEGIN:VEVENT
UID:69e8d80fefcf9
DTSTAMP:20260422T141543Z
DTSTART:20261109
DTEND:20261110
LOCATION:
SUMMARY:Marokko
DESCRIPTION:Rundreise Marokko Das »Tor zu Afrika«\,  wie das Land an der 
 Atlantikküste und am Mittelmeer auch bezeichnet wird\,  erwartet dich! Erl
 ebe auf dieser Rundreise viele Höhepunkte wie zum Beispiel Marrakesch\,  T
 odra- und Dadès-Schlucht und den Erg Chebbi. Weitläufige Wüstenflächen\
 ,  fruchtbare Oasen sowie das faszinierende Atlas-Gebirge\,  aber auch die 
 bunte\,  geruchsintensiven[..]\nhttps://endurofuntours.com/events/marokko-6
 /
URL:https://endurofuntours.com/events/marokko-6/
END:VEVENT
END:VCALENDAR