BEGIN:VCALENDAR
VERSION:2.0
PRODID:-//eventon.com NONSGML v1.0//EN
CALSCALE:GREGORIAN
METHOD:PUBLISH
BEGIN:VEVENT
UID:69ed253497f53
DTSTAMP:20260425T203356Z
DTSTART:20260222
DTEND:20260223
LOCATION:
SUMMARY:Enduro Pyrenäen
DESCRIPTION:Erleben Sie eine unvergessliche 6-tägige Offroad-Reise speziel
 l für 2-Zylinder-Enduros und Normal-Fahrer\,  ideal auch für Anfänger. D
 iese spannende Tour bietet 5 volle Tage Offroad-Abenteuer\,  beginnend am S
 onntagabend um 18:00 Uhr und endend am Freitagnachmittag gegen 16:00 Uhr. F
 ür ein noch entspannteres Erlebnis empfehlen wir eine zusätzliche Überna
 chtung (gegen Aufpreis). Die täglichen[..]\nhttps://endurofuntours.com/eve
 nts/enduro-pyrenaeen-8/
URL:https://endurofuntours.com/events/enduro-pyrenaeen-8/
END:VEVENT
END:VCALENDAR