BEGIN:VCALENDAR
VERSION:2.0
PRODID:-//eventon.com NONSGML v1.0//EN
CALSCALE:GREGORIAN
METHOD:PUBLISH
BEGIN:VEVENT
UID:69e51ff06f069
DTSTAMP:20260419T183320Z
DTSTART:20250316
DTEND:20250317
LOCATION:
SUMMARY:Provence Enduro
DESCRIPTION:Die Provence ist nicht nur für ihre atemberaubenden Lavendelfe
 lder und malerischen Dörfer berühmt\,  sondern auch für ein einzigartige
 s Terrain\,  das ideal für Enduro-Enthusiasten geeignet ist. Mit einer Vie
 lzahl von Strecken\,  die sich durch wunderschöne Landschaften schlängeln
 \,  bietet die Provence das perfekte Erlebnis für alle\,  die das Enduro-F
 ahren lieben. Endurofun Tours[..]\nhttps://endurofuntours.com/events/proven
 ce-enduro-15/
URL:https://endurofuntours.com/events/provence-enduro-15/
END:VEVENT
END:VCALENDAR