BEGIN:VCALENDAR
VERSION:2.0
PRODID:-//eventon.com NONSGML v1.0//EN
CALSCALE:GREGORIAN
METHOD:PUBLISH
BEGIN:VEVENT
UID:69ea3a991d42b
DTSTAMP:20260423T152825Z
DTSTART:20251109T135000Z
DTEND:20251114T135000Z
LOCATION:
SUMMARY:Südfrankreich "Endurospaß Ardèche"
DESCRIPTION:Hier herrscht ganzjährig mediterranes Klima\,  ohne die kalten
  Winde des Mistrals! Von hier werden die Tagestouren unternommen:In die imm
 ergrüne Garriguelandschaft im Süden. Auf alten und steinigen Eselspfaden 
 geht es durch die hügelige Landschaft. Auf einer westlichen Schleife geht 
 es in die Ausläufer der Cevennen\,  &#8211; auf Schotterwegen hinauf bis a
 uf[..]\nhttps://endurofuntours.com/events/suedfrankreich-endurospass-ardech
 e-33/
URL:https://endurofuntours.com/events/suedfrankreich-endurospass-ardeche-33/
END:VEVENT
END:VCALENDAR