BEGIN:VCALENDAR
VERSION:2.0
PRODID:-//eventon.com NONSGML v1.0//EN
CALSCALE:GREGORIAN
METHOD:PUBLISH
BEGIN:VEVENT
UID:69e9e91da0abf
DTSTAMP:20260423T094045Z
DTSTART:20240929T071600Z
DTEND:20241004T071600Z
LOCATION:
SUMMARY:Südfrankreich "Endurospaß Ardèche"
DESCRIPTION:Hier herrscht ganzjährig mediterranes Klima\,  ohne die kalten
  Winde des Mistrals! Von hier werden die Tagestouren unternommen:In die imm
 ergrüne Garriguelandschaft im Süden. Auf alten und steinigen Eselspfaden 
 geht es durch die hügelige Landschaft. Auf einer westlichen Schleife geht 
 es in die Ausläufer der Cevennen\,  &#8211; auf Schotterwegen hinauf bis a
 uf[..]\nhttps://endurofuntours.com/events/suedfrankreich-endurospass-ardech
 e-22/
URL:https://endurofuntours.com/events/suedfrankreich-endurospass-ardeche-22/
END:VEVENT
END:VCALENDAR