BEGIN:VCALENDAR
VERSION:2.0
PRODID:-//eventon.com NONSGML v1.0//EN
CALSCALE:GREGORIAN
METHOD:PUBLISH
BEGIN:VEVENT
UID:69e75731e5a13
DTSTAMP:20260421T105337Z
DTSTART:20231225
DTEND:20231226
LOCATION:
SUMMARY:Korsika Onroad
DESCRIPTION:Nicht umsonst haben die Griechen vor langer Zeit bereits von de
 r Insel der “Schönheit” gesprochen\,  die ein Paradies für den erlebn
 ishungrigen wie naturverbundenen Motorradfahrer ist. Hierbei egal\,  ob On-
  oder Offroad. Für beide Sparten bieten wir entsprechendes. Korsika ist da
 s 20. Departement Frankreichs und ist die drittgrößte Insel im westlichen
 [..]\nhttps://endurofuntours.com/events/korsika-onroad-5/
URL:https://endurofuntours.com/events/korsika-onroad-5/
END:VEVENT
END:VCALENDAR