BEGIN:VCALENDAR
VERSION:2.0
PRODID:-//eventon.com NONSGML v1.0//EN
CALSCALE:GREGORIAN
METHOD:PUBLISH
BEGIN:VEVENT
UID:69e9aaca45c9b
DTSTAMP:20260423T051450Z
DTSTART:20230306
DTEND:20230307
LOCATION:
SUMMARY:Korsika Onroad
DESCRIPTION:Nicht umsonst haben die Griechen vor langer Zeit bereits von de
 r Insel der “Schönheit” gesprochen\,  die ein Paradies für den erlebn
 ishungrigen wie naturverbundenen Motorradfahrer ist. Hierbei egal\,  ob On-
  oder Offroad. Für beide Sparten bieten wir entsprechendes. Korsika ist da
 s 20. Departement Frankreichs und ist die drittgrößte Insel im westlichen
 [..]\nhttps://endurofuntours.com/events/korsika-onroad-2/
URL:https://endurofuntours.com/events/korsika-onroad-2/
END:VEVENT
END:VCALENDAR