BEGIN:VCALENDAR
VERSION:2.0
PRODID:-//eventon.com NONSGML v1.0//EN
CALSCALE:GREGORIAN
METHOD:PUBLISH
BEGIN:VEVENT
UID:69eb5d683d1db
DTSTAMP:20260424T120912Z
DTSTART:20231008
DTEND:20231009
LOCATION:
SUMMARY:ARDECHE/LOZERE /GARD & PROVENCE
DESCRIPTION:\nhttps://endurofuntours.com/events/ardeche-lozere-gard-provenc
 e-5/
URL:https://endurofuntours.com/events/ardeche-lozere-gard-provence-5/
END:VEVENT
END:VCALENDAR