BEGIN:VCALENDAR
VERSION:2.0
PRODID:-//eventon.com NONSGML v1.0//EN
CALSCALE:GREGORIAN
METHOD:PUBLISH
BEGIN:VEVENT
UID:69ec18c4a0d84
DTSTAMP:20260425T012836Z
DTSTART:20220320
DTEND:20220321
LOCATION:
SUMMARY:Katalonien
DESCRIPTION:Auf Traumpfaden unterwegs! Du kennst die Pyrenäen noch nicht? 
 Dann hast Du bis jetzt so ziemlich das Beste verpasst\,  was es in Europa z
 um Enduro fahren gibt. Ganz gleich\,  ob kurvige Landstraßen oder Offroad 
 aller Schwierigkeitsgrade\,  das Angebot ist nahezu unbegrenzt. Idealer Aus
 gangspunkt ist hier Ampuriabrava.\nhttps://endurofuntours.com/events/katalo
 nien-2/
URL:https://endurofuntours.com/events/katalonien-2/
END:VEVENT
END:VCALENDAR