BEGIN:VCALENDAR
VERSION:2.0
PRODID:-//eventon.com NONSGML v1.0//EN
CALSCALE:GREGORIAN
METHOD:PUBLISH
BEGIN:VEVENT
UID:69eb36a905c3b
DTSTAMP:20260424T092353Z
DTSTART:20210422
DTEND:20210423
LOCATION:
SUMMARY:„ATV- Quad- Endurotouren“ in Polen/ Westpommern
DESCRIPTION:Unser Standort in Polen liegt in romantischer Szenerie zwischen
  zwei Bergen\,  die gesamte Region wurde durch die Eiszeiten geprägt : vie
 le Seen und Flüsse\,  leicht gebirgige Landschaft\,  Sandfelder und zauber
 hafte Wälder.\nhttps://endurofuntours.com/events/atv-quad-endurotouren-in-
 polen-westpommern-2/
URL:https://endurofuntours.com/events/atv-quad-endurotouren-in-polen-westpommern-2/
END:VEVENT
END:VCALENDAR