BEGIN:VCALENDAR
VERSION:2.0
PRODID:-//eventon.com NONSGML v1.0//EN
CALSCALE:GREGORIAN
METHOD:PUBLISH
BEGIN:VEVENT
UID:69e5c03198ad1
DTSTAMP:20260420T055705Z
DTSTART:20201221
DTEND:20201222
LOCATION:
SUMMARY:Korsika – vom Strand ins Hochgebirge
DESCRIPTION:Korsika ist das 20. Departement Frankreichs und ist die drittgr
 ößte Insel im westlichen Mittelmeerraum. Die Insel ist ein Granitgebirge 
 im Meer\,  das von 2800 m Höhe bis runter zum Meeresspiegel eine üppige\,
   vielfältige Vegetation und abwechselungsreiche Landschaftsbilder aufweis
 t. Nicht umsonst haben die Griechen vor langer Zeit bereits von der Insel[.
 .]\nhttps://endurofuntours.com/events/korsika-vom-strand-ins-hochgebirge/
URL:https://endurofuntours.com/events/korsika-vom-strand-ins-hochgebirge/
END:VEVENT
END:VCALENDAR