BEGIN:VCALENDAR
VERSION:2.0
PRODID:-//eventon.com NONSGML v1.0//EN
CALSCALE:GREGORIAN
METHOD:PUBLISH
BEGIN:VEVENT
UID:69e9980e66fac
DTSTAMP:20260423T035454Z
DTSTART:20201001
DTEND:20201002
LOCATION:
SUMMARY:„ATV- Quad- Endurotouren“ in Polen/ Westpommern
DESCRIPTION:Unser Standort in Polen liegt in romantischer Szenerie zwischen
  zwei Bergen\,  die gesamte Region wurde durch die Eiszeiten geprägt : vie
 le Seen und Flüsse\,  leicht gebirgige Landschaft\,  Sandfelder und zauber
 hafte Wälder.\nhttps://endurofuntours.com/events/atv-quad-endurotouren-in-
 polen-westpommern/
URL:https://endurofuntours.com/events/atv-quad-endurotouren-in-polen-westpommern/
END:VEVENT
END:VCALENDAR